BEGIN:VCALENDAR
VERSION:2.0
PRODID:-//Tennisclub Aue Wedel - ECPv6.15.20//NONSGML v1.0//EN
CALSCALE:GREGORIAN
METHOD:PUBLISH
X-ORIGINAL-URL:https://tcaue.de
X-WR-CALDESC:Veranstaltungen für Tennisclub Aue Wedel
REFRESH-INTERVAL;VALUE=DURATION:PT1H
X-Robots-Tag:noindex
X-PUBLISHED-TTL:PT1H
BEGIN:VTIMEZONE
TZID:UTC
BEGIN:STANDARD
TZOFFSETFROM:+0000
TZOFFSETTO:+0000
TZNAME:UTC
DTSTART:20250101T000000
END:STANDARD
END:VTIMEZONE
BEGIN:VEVENT
DTSTART;TZID=UTC:20260815T100000
DTEND;TZID=UTC:20260815T140000
DTSTAMP:20260420T092419
CREATED:20250227T075550Z
LAST-MODIFIED:20260302T205704Z
UID:8154-1786788000-1786802400@tcaue.de
SUMMARY:4. Arbeitsdienst
DESCRIPTION:Dies ist der vierte Arbeitsdienst in der Saison 2025. Meldet euch an\, um unsere Anlage in Schuss zu halten.
URL:https://tcaue.de/event/4-arbeitsdienst
LOCATION:Anlage TC Aue
CATEGORIES:Clubtermine,Clubtermine Jugend
ORGANIZER;CN="TC AUE":MAILTO:vorstand@tcaue.de
END:VEVENT
BEGIN:VEVENT
DTSTART;TZID=UTC:20260815T140000
DTEND;TZID=UTC:20260815T170000
DTSTAMP:20260420T092419
CREATED:20250312T202238Z
LAST-MODIFIED:20260321T194005Z
UID:8216-1786802400-1786813200@tcaue.de
SUMMARY:Damen Doppelturnier
DESCRIPTION:Details folgen
URL:https://tcaue.de/event/damen-doppel
LOCATION:Anlage TC Aue
CATEGORIES:Clubtermine
END:VEVENT
BEGIN:VEVENT
DTSTART;VALUE=DATE:20260816
DTEND;VALUE=DATE:20260817
DTSTAMP:20260420T092419
CREATED:20260321T144024Z
LAST-MODIFIED:20260415T185147Z
UID:8518-1786838400-1786924799@tcaue.de
SUMMARY:LK-Turnier
DESCRIPTION:Details folgen
URL:https://tcaue.de/event/lk-turnier-2
CATEGORIES:Aushänge,Clubtermine
END:VEVENT
END:VCALENDAR