BEGIN:VCALENDAR
VERSION:2.0
PRODID:-//Tennisclub Aue Wedel - ECPv6.15.20//NONSGML v1.0//EN
CALSCALE:GREGORIAN
METHOD:PUBLISH
X-WR-CALNAME:Tennisclub Aue Wedel
X-ORIGINAL-URL:https://tcaue.de
X-WR-CALDESC:Veranstaltungen für Tennisclub Aue Wedel
REFRESH-INTERVAL;VALUE=DURATION:PT1H
X-Robots-Tag:noindex
X-PUBLISHED-TTL:PT1H
BEGIN:VTIMEZONE
TZID:UTC
BEGIN:STANDARD
TZOFFSETFROM:+0000
TZOFFSETTO:+0000
TZNAME:UTC
DTSTART:20240101T000000
END:STANDARD
END:VTIMEZONE
BEGIN:VEVENT
DTSTART;TZID=UTC:20251112T183000
DTEND;TZID=UTC:20251112T223000
DTSTAMP:20260420T103420
CREATED:20251028T082538Z
LAST-MODIFIED:20251028T082538Z
UID:8393-1762972200-1762986600@tcaue.de
SUMMARY:Mitgliedertreffen in der Wintersaison
DESCRIPTION:Liebe Mitglieder\, \nauch in diesem Winter möchten wir die Gelegenheit nutzen und uns im Clubhaus bei einem Kaltgetränk und ein paar Plaudereien treffen.
URL:https://tcaue.de/event/mitgliedertreffen-in-der-wintersaison
LOCATION:Anlage TC Aue
CATEGORIES:Clubtermine
ORGANIZER;CN="TC AUE":MAILTO:vorstand@tcaue.de
END:VEVENT
END:VCALENDAR