BEGIN:VCALENDAR
VERSION:2.0
PRODID:-//Tennisclub Aue Wedel - ECPv6.15.20//NONSGML v1.0//EN
CALSCALE:GREGORIAN
METHOD:PUBLISH
X-ORIGINAL-URL:https://tcaue.de
X-WR-CALDESC:Veranstaltungen für Tennisclub Aue Wedel
REFRESH-INTERVAL;VALUE=DURATION:PT1H
X-Robots-Tag:noindex
X-PUBLISHED-TTL:PT1H
BEGIN:VTIMEZONE
TZID:UTC
BEGIN:STANDARD
TZOFFSETFROM:+0000
TZOFFSETTO:+0000
TZNAME:UTC
DTSTART:20240101T000000
END:STANDARD
END:VTIMEZONE
BEGIN:VEVENT
DTSTART;TZID=UTC:20251011T130000
DTEND;TZID=UTC:20251011T190000
DTSTAMP:20260420T115015
CREATED:20250312T202624Z
LAST-MODIFIED:20250923T152002Z
UID:8224-1760187600-1760209200@tcaue.de
SUMMARY:Mixed Turnier
DESCRIPTION:Das Mixed Turnier – vormals „Ehekrachturnier“ wird dieses Jahr organisiert von den 1. Damen 40 und den Herren 70. \nWann: 11. Oktober 2025\nStart: 13:00 Uhr \nAnmeldung: Aushang im Clubhaus oder online\nMeldeschluss: 10. Oktober 2025 \nIhr könnt Euch sowohl als Single wie auch als Paar anmelden. Katharina und Manni kümmern sich bei Bedarf um Spielpartner bzw. Spielpartnerinnen. \nWir freuen uns auf Euch! \nSportliche Grüße \n1.Damen 40 & Herren 70 \n 
URL:https://tcaue.de/event/mixed-turnier
LOCATION:Anlage TC Aue
CATEGORIES:Clubtermine
END:VEVENT
END:VCALENDAR