BEGIN:VCALENDAR
VERSION:2.0
PRODID:-//Tennisclub Aue Wedel - ECPv6.15.20//NONSGML v1.0//EN
CALSCALE:GREGORIAN
METHOD:PUBLISH
X-ORIGINAL-URL:https://tcaue.de
X-WR-CALDESC:Veranstaltungen für Tennisclub Aue Wedel
REFRESH-INTERVAL;VALUE=DURATION:PT1H
X-Robots-Tag:noindex
X-PUBLISHED-TTL:PT1H
BEGIN:VTIMEZONE
TZID:UTC
BEGIN:STANDARD
TZOFFSETFROM:+0000
TZOFFSETTO:+0000
TZNAME:UTC
DTSTART:20240101T000000
END:STANDARD
END:VTIMEZONE
BEGIN:VEVENT
DTSTART;TZID=UTC:20250511T100000
DTEND;TZID=UTC:20250511T140000
DTSTAMP:20260420T180249
CREATED:20250428T200140Z
LAST-MODIFIED:20250428T200140Z
UID:8278-1746957600-1746972000@tcaue.de
SUMMARY:Jugendevent 2025
DESCRIPTION:Liebe Kinder und Jugendliche\, \nam 11.05. findet unser Jugendevent für euch auf unserer Tennisanlage statt. \nHier der Ablauf: \n\n10:00 Begrüßung und Vorstellung des Ablaufs\n10:20 – 11:30 Kennenlernspiele mit Tennishintergrund\n11:30 – 11:45 Einteilung der ersten Paarungen für das Tiebreak-Turnier\n11:45 – 13:15 Tiebreak-Turnier in zwei Altersklassen (8-11 und 12-17 jährige)\n13:15 – 14:00 Grillen mit Siegerehrung\n\nMeldet euch hier an. \n 
URL:https://tcaue.de/event/jugendevent-2025
LOCATION:Anlage TC Aue
CATEGORIES:Aushänge,Clubtermine,Clubtermine Jugend
ORGANIZER;CN="TC AUE":MAILTO:vorstand@tcaue.de
END:VEVENT
BEGIN:VEVENT
DTSTART;VALUE=DATE:20250517
DTEND;VALUE=DATE:20250526
DTSTAMP:20260420T180249
CREATED:20250416T202743Z
LAST-MODIFIED:20250428T202846Z
UID:8262-1747440000-1748217599@tcaue.de
SUMMARY:Hamburg Open 2025 am Rothenbaum
DESCRIPTION:Ihr wollt die weltbesten Tennisspieler live erleben? Dann habt ihr vom 17.-24. Mai 2025 am Hamburger Rothenbaum die Gelegenheit dazu\, denn dort findet wieder eines der traditionsreichsten Turniere im ATP-Kalender statt – und dieses Jahr gibt es eine ganz besondere Überraschung: Die aktuelle Nr. 1 der Welt\, Jannik Sinner\, wird mit dabei sein! \n 
URL:https://tcaue.de/event/hamburg-open-2025-am-rothenbaum
LOCATION:Rothenbaum – Hamburg
CATEGORIES:Aushänge,Clubtermine,Clubtermine Jugend
END:VEVENT
BEGIN:VEVENT
DTSTART;TZID=UTC:20250529T110000
DTEND;TZID=UTC:20250529T180000
DTSTAMP:20260420T180249
CREATED:20250312T195808Z
LAST-MODIFIED:20250312T195808Z
UID:8195-1748516400-1748541600@tcaue.de
SUMMARY:Christi Himmelfahrt Turnier
DESCRIPTION:Das Himmelfahrtsturnier wird dieses Jahr organisiert von den Herren 70.
URL:https://tcaue.de/event/christi-himmelfahrt-turnier
LOCATION:Anlage TC Aue
CATEGORIES:Clubtermine,Clubtermine Jugend
END:VEVENT
END:VCALENDAR